BEGIN:VCALENDAR
VERSION:2.0
PRODID:-//eventon.com NONSGML v1.0//EN
BEGIN:VEVENT
UID:69e4dff5d3492
DTSTAMP:20260419T160021
DTSTART:20211103T180000Z
DTEND:20211103T190000Z
TZID:Europe/Vienna
LOCATION:Pfarrsaal St. Johann Wagrainer Straße 10
SUMMARY:YOGA & Klang
DESCRIPTION: jetzt neu für Erwachsene in St. Johann! YOGA & Klang Bewegung Stimme Stille als Quelle von Kraft und Lebensfreude erleben! Kursort: Pfarrsaal St. Johann Kostenbeitrag: 12 Euro pro Abend Yogamatte\,  Trinkflasche\,  evt. Sitzkissen und Decke mitbringen! Keine Vorkenntnisse nötig! Termine: Jeder erste Mittwoch im Monat Start 6.10.2021\,  19.00 – 20.00[..]\nhttps://www.vitadesign.at/beratung/events/yoga-klang/var/ri-1.l-L1
URL:https://www.vitadesign.at/beratung/events/yoga-klang/var/ri-1.l-L1
END:VEVENT
END:VCALENDAR