BEGIN:VCALENDAR
VERSION:2.0
PRODID:-//eventon.com NONSGML v1.0//EN
BEGIN:VEVENT
UID:69eba95841cad
DTSTAMP:20260424T193312
DTSTART:20221024T143000Z
DTEND:20221024T152500Z
TZID:Europe/Vienna
LOCATION:Kindergarten Nord Pokornystraße 3
SUMMARY:Lets come together Bad Hofgastein
DESCRIPTION: Lets come together Bad Hofgastein Kinderyoga in Verbindung mit Liedern und Tänzen aus aller Welt Innere Stille erfahren Spannungen abbauen Konzentration und Kreativität stärken Achtsamkeit leben Lernfähigkeit steigern Musikalität fördern Koordination und Körpergefühl schulen Kinder von 4 bis 10 Jahre: 15:35 Uhr &#8211; 16:30 Uhr Kursort: Kindergarten Nord\,  Pokornystraße 3[..]\nhttps://www.vitadesign.at/beratung/events/lets-come-together-bad-hofgastein/var/ri-21.l-L1
URL:https://www.vitadesign.at/beratung/events/lets-come-together-bad-hofgastein/var/ri-21.l-L1
END:VEVENT
END:VCALENDAR